BEGIN:VCALENDAR
VERSION:2.0
PRODID:-//Friends of Southern Ocean County Animal Shelter - ECPv6.15.20//NONSGML v1.0//EN
CALSCALE:GREGORIAN
METHOD:PUBLISH
X-WR-CALNAME:Friends of Southern Ocean County Animal Shelter
X-ORIGINAL-URL:https://www.fosocas.org
X-WR-CALDESC:Events for Friends of Southern Ocean County Animal Shelter
REFRESH-INTERVAL;VALUE=DURATION:PT1H
X-Robots-Tag:noindex
X-PUBLISHED-TTL:PT1H
BEGIN:VTIMEZONE
TZID:America/New_York
BEGIN:DAYLIGHT
TZOFFSETFROM:-0500
TZOFFSETTO:-0400
TZNAME:EDT
DTSTART:20200308T070000
END:DAYLIGHT
BEGIN:STANDARD
TZOFFSETFROM:-0400
TZOFFSETTO:-0500
TZNAME:EST
DTSTART:20201101T060000
END:STANDARD
BEGIN:DAYLIGHT
TZOFFSETFROM:-0500
TZOFFSETTO:-0400
TZNAME:EDT
DTSTART:20210314T070000
END:DAYLIGHT
BEGIN:STANDARD
TZOFFSETFROM:-0400
TZOFFSETTO:-0500
TZNAME:EST
DTSTART:20211107T060000
END:STANDARD
BEGIN:DAYLIGHT
TZOFFSETFROM:-0500
TZOFFSETTO:-0400
TZNAME:EDT
DTSTART:20220313T070000
END:DAYLIGHT
BEGIN:STANDARD
TZOFFSETFROM:-0400
TZOFFSETTO:-0500
TZNAME:EST
DTSTART:20221106T060000
END:STANDARD
END:VTIMEZONE
BEGIN:VEVENT
DTSTART;VALUE=DATE:20211014
DTEND;VALUE=DATE:20211206
DTSTAMP:20260424T140800
CREATED:20211014T170501Z
LAST-MODIFIED:20211014T170501Z
UID:4619-1634169600-1638665999@www.fosocas.org
SUMMARY:Holiday Wreath Fundraiser
DESCRIPTION:Back by popular demand–the Holiday Wreath Fundraiser!  We are raising money to help the homeless pets of the Southern Ocean County area. The many things we do for the pets is provide medical and health care\, foster care\, love and compassion. We are also very active with the feral cats and provide TNR and colony care but we can’t do this without funds! Thank you for your donations! \nhttps://ThreeRiversFundraising.com/fund/fsocas-wr21
URL:https://www.fosocas.org/event/holiday-wreath-fundraiser-2/
LOCATION:NJ
END:VEVENT
BEGIN:VEVENT
DTSTART;TZID=America/New_York:20211023T130000
DTEND;TZID=America/New_York:20211023T160000
DTSTAMP:20260424T140800
CREATED:20210930T111213Z
LAST-MODIFIED:20210930T111213Z
UID:4606-1634994000-1635004800@www.fosocas.org
SUMMARY:13th Annual Fall Furfest
DESCRIPTION:It’s our 13th Annual Fall Furfest and Halloween Pet Parade! Prizes\, Ribbons\, Giveaways and an Adoption Event!\nEvent starts at 1pm; Parade begins at 1:30pm and the Shelter is open from 1-4pm for adoptions! \n 
URL:https://www.fosocas.org/event/13th-annual-fall-furfest/
LOCATION:360 Haywood Rd Manahawkin\, NJ 08050\, 360 Haywood Rd\, Manahawkin\, NJ\, 08050
ATTACH;FMTTYPE=image/jpeg:https://www.fosocas.org/wp-content/uploads/2021/09/fall-furfest.jpg
END:VEVENT
END:VCALENDAR